BEGIN:VCALENDAR
VERSION:2.0
PRODID:-//Fellowship Baptist Church - ECPv4.9.8//NONSGML v1.0//EN
CALSCALE:GREGORIAN
METHOD:PUBLISH
X-WR-CALNAME:Fellowship Baptist Church
X-ORIGINAL-URL:https://fellowshipbaptist.life
X-WR-CALDESC:Events for Fellowship Baptist Church
BEGIN:VTIMEZONE
TZID:UTC
BEGIN:STANDARD
TZOFFSETFROM:+0000
TZOFFSETTO:+0000
TZNAME:UTC
DTSTART:20240101T000000
END:STANDARD
END:VTIMEZONE
BEGIN:VEVENT
DTSTART;TZID="UTC":20240804T140000
DTEND;TZID="UTC":20240804T143000
DTSTAMP:20260422T105600
CREATED:20240724T131044Z
LAST-MODIFIED:20240724T131044Z
UID:2700-1722780000-1722781800@fellowshipbaptist.life
SUMMARY:Back-To-School-Prayer
DESCRIPTION:On Sunday afternoon at 2 PM there will be a back-to-school prayer schedule for all school locations. Pastors and lay leaders will be disbursed over all locations. You can join Denise and I at the Harlow Administration/Mercer central day treatment at 530 Perryville Street to pray for our children\, faculty\, premises\, bus drivers etc…. Grab a bite to eat and join us to pray for God’s protection over everyone for the upcoming school year. See you there at 2:00pm \n
URL:https://fellowshipbaptist.life/event/back-to-school-prayer/
END:VEVENT
END:VCALENDAR