BEGIN:VCALENDAR
VERSION:2.0
PRODID:-//Fellowship Baptist Church - ECPv4.9.8//NONSGML v1.0//EN
CALSCALE:GREGORIAN
METHOD:PUBLISH
X-WR-CALNAME:Fellowship Baptist Church
X-ORIGINAL-URL:https://fellowshipbaptist.life
X-WR-CALDESC:Events for Fellowship Baptist Church
BEGIN:VTIMEZONE
TZID:UTC
BEGIN:STANDARD
TZOFFSETFROM:+0000
TZOFFSETTO:+0000
TZNAME:UTC
DTSTART:20250101T000000
END:STANDARD
END:VTIMEZONE
BEGIN:VEVENT
DTSTART;TZID="UTC":20251218T080000
DTEND;TZID="UTC":20251218T170000
DTSTAMP:20260420T104534
CREATED:20251216T174315Z
LAST-MODIFIED:20251216T174315Z
UID:3258-1766044800-1766077200@fellowshipbaptist.life
SUMMARY:Christmas Caroling
DESCRIPTION:Come prepared to take a blessing to our shut-ins on December 18th and receive a blessing. The bus will leave at 5:45 from the church. \n
URL:https://fellowshipbaptist.life/event/christmas-caroling/
END:VEVENT
END:VCALENDAR