BEGIN:VCALENDAR
VERSION:2.0
PRODID:-//Fellowship Baptist Church - ECPv4.9.8//NONSGML v1.0//EN
CALSCALE:GREGORIAN
METHOD:PUBLISH
X-WR-CALNAME:Fellowship Baptist Church
X-ORIGINAL-URL:https://fellowshipbaptist.life
X-WR-CALDESC:Events for Fellowship Baptist Church
BEGIN:VTIMEZONE
TZID:UTC
BEGIN:STANDARD
TZOFFSETFROM:+0000
TZOFFSETTO:+0000
TZNAME:UTC
DTSTART:20230101T000000
END:STANDARD
END:VTIMEZONE
BEGIN:VEVENT
DTSTART;TZID="UTC":20230730T170000
DTEND;TZID="UTC":20230730T180000
DTSTAMP:20260421T230345
CREATED:20210324T092926Z
LAST-MODIFIED:20230706T135411Z
UID:1344-1690736400-1690740000@fellowshipbaptist.life
SUMMARY:TRUSTEES MEETING
DESCRIPTION:Trustees will meet in the conference room at 5:00pm. \n
URL:https://fellowshipbaptist.life/event/trustees-meeting-2/
END:VEVENT
END:VCALENDAR