BEGIN:VCALENDAR
VERSION:2.0
PRODID:-//Fellowship Baptist Church - ECPv4.9.8//NONSGML v1.0//EN
CALSCALE:GREGORIAN
METHOD:PUBLISH
X-WR-CALNAME:Fellowship Baptist Church
X-ORIGINAL-URL:https://fellowshipbaptist.life
X-WR-CALDESC:Events for Fellowship Baptist Church
BEGIN:VTIMEZONE
TZID:UTC
BEGIN:STANDARD
TZOFFSETFROM:+0000
TZOFFSETTO:+0000
TZNAME:UTC
DTSTART:20250101T000000
END:STANDARD
END:VTIMEZONE
BEGIN:VEVENT
DTSTART;TZID="UTC":20250312T080000
DTEND;TZID="UTC":20250320T170000
DTSTAMP:20260418T105833
CREATED:20250312T152232Z
LAST-MODIFIED:20250312T152232Z
UID:2951-1741766400-1742490000@fellowshipbaptist.life
SUMMARY:Note From Pastor
DESCRIPTION:From Pastor Lynn and Denise: “We miss each of you and thank you for cards\, prayers\, calls\, visits\, text\, and food. All of you are an outpouring of our Heavenly Father’s love. See you soon. Keep the fire burning!” \n
URL:https://fellowshipbaptist.life/event/note-from-pastor/
END:VEVENT
END:VCALENDAR