BEGIN:VCALENDAR
VERSION:2.0
PRODID:-//Fellowship Baptist Church - ECPv4.9.8//NONSGML v1.0//EN
CALSCALE:GREGORIAN
METHOD:PUBLISH
X-WR-CALNAME:Fellowship Baptist Church
X-ORIGINAL-URL:https://fellowshipbaptist.life
X-WR-CALDESC:Events for Fellowship Baptist Church
BEGIN:VTIMEZONE
TZID:UTC
BEGIN:STANDARD
TZOFFSETFROM:+0000
TZOFFSETTO:+0000
TZNAME:UTC
DTSTART:20250101T000000
END:STANDARD
END:VTIMEZONE
BEGIN:VEVENT
DTSTART;TZID="UTC":20250507T080000
DTEND;TZID="UTC":20250606T170000
DTSTAMP:20260421T063332
CREATED:20250507T140016Z
LAST-MODIFIED:20250507T140016Z
UID:3025-1746604800-1749229200@fellowshipbaptist.life
SUMMARY:VBS 2025
DESCRIPTION:Our VBS will be June 2nd – June 6th. Please be praying about volunteering if you haven’t already. Also\, start putting the word out there among family members\, neighbors\, in the work place etc… Our theme this year is “Wonder Junction”  A BIG\, BIG thanks to our chair person and VBS committee!!!!! \n
URL:https://fellowshipbaptist.life/event/vbs-2025/
END:VEVENT
END:VCALENDAR