BEGIN:VCALENDAR
VERSION:2.0
PRODID:-//Fellowship Baptist Church - ECPv4.9.8//NONSGML v1.0//EN
CALSCALE:GREGORIAN
METHOD:PUBLISH
X-WR-CALNAME:Fellowship Baptist Church
X-ORIGINAL-URL:https://fellowshipbaptist.life
X-WR-CALDESC:Events for Fellowship Baptist Church
BEGIN:VTIMEZONE
TZID:UTC
BEGIN:STANDARD
TZOFFSETFROM:+0000
TZOFFSETTO:+0000
TZNAME:UTC
DTSTART:20250101T000000
END:STANDARD
END:VTIMEZONE
BEGIN:VEVENT
DTSTART;TZID="UTC":20250706T110000
DTEND;TZID="UTC":20250706T120000
DTSTAMP:20260421T050006
CREATED:20250611T141608Z
LAST-MODIFIED:20250611T141608Z
UID:3068-1751799600-1751803200@fellowshipbaptist.life
SUMMARY:Gift of Grace - Gospel Music
DESCRIPTION:Gift of Grace will be with us the morning of July 6th. They will lead the morning praise time and a message will follow. A love offering will be taken after the service for Gift of Grace. \n
URL:https://fellowshipbaptist.life/event/gift-of-grace-gospel-music/
END:VEVENT
END:VCALENDAR