BEGIN:VCALENDAR
VERSION:2.0
PRODID:-//Fellowship Baptist Church - ECPv4.9.8//NONSGML v1.0//EN
CALSCALE:GREGORIAN
METHOD:PUBLISH
X-WR-CALNAME:Fellowship Baptist Church
X-ORIGINAL-URL:https://fellowshipbaptist.life
X-WR-CALDESC:Events for Fellowship Baptist Church
BEGIN:VTIMEZONE
TZID:UTC
BEGIN:STANDARD
TZOFFSETFROM:+0000
TZOFFSETTO:+0000
TZNAME:UTC
DTSTART:20250101T000000
END:STANDARD
END:VTIMEZONE
BEGIN:VEVENT
DTSTART;TZID="UTC":20250921T110000
DTEND;TZID="UTC":20250921T120000
DTSTAMP:20260421T013135
CREATED:20230223T201507Z
LAST-MODIFIED:20250829T111131Z
UID:2164-1758452400-1758456000@fellowshipbaptist.life
SUMMARY:September 21st - HOMECOMING! - Michael Combs
DESCRIPTION:HOMECOMING! \nSpread the word! Homecoming is a time in late September to welcome back former members if the community \nOur Brother in Christ\, Michael Combs will be with us. His precious wife Denise will also be with him. On February 6\, 1989\, Jesus Christ became Michael Combs personal savior and Michael Combs became born-again child of God. Jesus put a new song in Michael’s heart. It is this personal relationship withe the Lord Jesus Christ that shines through Michael’s testimony\, music and personality. \nThe Lord has allowed Michael to write and record many songs. Michael feels the favor of God on him and the ministry God has blessed him with. Michael’s home is in Ashe County\, NC. Michael and Denise are blessed to have two children\, and seven grandchildren. \nMark your calendar now. You will not want to miss the blessing of his ministry!! There will be a love offering taken at end of service to go towards our renovation in honor of Brother Billy Hurt. \nThere will be a fellowship meal that follows the service. \n
URL:https://fellowshipbaptist.life/event/homecoming-september-17th-michale-combs/
END:VEVENT
END:VCALENDAR